BEGIN:VCALENDAR
VERSION:2.0
PRODID:-//Lloyd Harbor Yacht Club - ECPv6.2.6//NONSGML v1.0//EN
CALSCALE:GREGORIAN
METHOD:PUBLISH
X-WR-CALNAME:Lloyd Harbor Yacht Club
X-ORIGINAL-URL:https://lhyc.org
X-WR-CALDESC:Events for Lloyd Harbor Yacht Club
REFRESH-INTERVAL;VALUE=DURATION:PT1H
X-Robots-Tag:noindex
X-PUBLISHED-TTL:PT1H
BEGIN:VTIMEZONE
TZID:UTC
BEGIN:STANDARD
TZOFFSETFROM:+0000
TZOFFSETTO:+0000
TZNAME:UTC
DTSTART:20260101T000000
END:STANDARD
END:VTIMEZONE
BEGIN:VEVENT
DTSTART;TZID=UTC:20260701T190000
DTEND;TZID=UTC:20260701T190000
DTSTAMP:20260424T152001
CREATED:20260205T131349Z
LAST-MODIFIED:20260205T131349Z
UID:7794-1782932400-1782932400@lhyc.org
SUMMARY:LHYC Summer Series Race #7
DESCRIPTION:
URL:https://lhyc.org/event/lhyc-summer-series-race-7/
END:VEVENT
BEGIN:VEVENT
DTSTART;TZID=UTC:20260708T190000
DTEND;TZID=UTC:20260708T190000
DTSTAMP:20260424T152001
CREATED:20260205T131432Z
LAST-MODIFIED:20260205T131432Z
UID:7796-1783537200-1783537200@lhyc.org
SUMMARY:LHYC Summer Series Race #8
DESCRIPTION:
URL:https://lhyc.org/event/lhyc-summer-series-race-8/
END:VEVENT
BEGIN:VEVENT
DTSTART;TZID=UTC:20260710T190000
DTEND;TZID=UTC:20260710T190000
DTSTAMP:20260424T152001
CREATED:20260206T134838Z
LAST-MODIFIED:20260206T135657Z
UID:7821-1783710000-1783710000@lhyc.org
SUMMARY:LHYC Friday Night Pursuit Race #6
DESCRIPTION:
URL:https://lhyc.org/event/lhyc-friday-night-pursuit-race-7/
END:VEVENT
BEGIN:VEVENT
DTSTART;TZID=UTC:20260711T140000
DTEND;TZID=UTC:20260711T140000
DTSTAMP:20260424T152001
CREATED:20260220T140849Z
LAST-MODIFIED:20260220T140849Z
UID:7857-1783778400-1783778400@lhyc.org
SUMMARY:Little Brown Jug Race
DESCRIPTION:
URL:https://lhyc.org/event/little-brown-jug-race-4/
END:VEVENT
BEGIN:VEVENT
DTSTART;TZID=UTC:20260715T190000
DTEND;TZID=UTC:20260715T190000
DTSTAMP:20260424T152001
CREATED:20260205T131507Z
LAST-MODIFIED:20260205T131507Z
UID:7798-1784142000-1784142000@lhyc.org
SUMMARY:LHYC Summer Series Race #9
DESCRIPTION:
URL:https://lhyc.org/event/lhyc-summer-series-race-9/
END:VEVENT
BEGIN:VEVENT
DTSTART;TZID=UTC:20260717T190000
DTEND;TZID=UTC:20260717T190000
DTSTAMP:20260424T152001
CREATED:20260206T134918Z
LAST-MODIFIED:20260206T135726Z
UID:7823-1784314800-1784314800@lhyc.org
SUMMARY:LHYC Friday Night Pursuit Race #7
DESCRIPTION:
URL:https://lhyc.org/event/lhyc-friday-night-pursuit-race-8/
END:VEVENT
BEGIN:VEVENT
DTSTART;TZID=UTC:20260718T140000
DTEND;TZID=UTC:20260718T140000
DTSTAMP:20260424T152001
CREATED:20260220T141103Z
LAST-MODIFIED:20260220T141103Z
UID:7859-1784383200-1784383200@lhyc.org
SUMMARY:Edward S. Dole Memorial Stratford Shoal Race
DESCRIPTION:
URL:https://lhyc.org/event/edward-s-dole-memorial-stratford-shoal-race-2/
END:VEVENT
BEGIN:VEVENT
DTSTART;TZID=UTC:20260722T190000
DTEND;TZID=UTC:20260722T190000
DTSTAMP:20260424T152001
CREATED:20260205T125714Z
LAST-MODIFIED:20260205T130035Z
UID:7765-1784746800-1784746800@lhyc.org
SUMMARY:Summer Series Race #10
DESCRIPTION:
URL:https://lhyc.org/event/summer-series-race-1-5/
END:VEVENT
BEGIN:VEVENT
DTSTART;TZID=UTC:20260724T190000
DTEND;TZID=UTC:20260724T190000
DTSTAMP:20260424T152001
CREATED:20260206T134959Z
LAST-MODIFIED:20260206T135758Z
UID:7825-1784919600-1784919600@lhyc.org
SUMMARY:LHYC Friday Night Pursuit Race #8
DESCRIPTION:
URL:https://lhyc.org/event/lhyc-friday-night-pursuit-race-8-2/
END:VEVENT
BEGIN:VEVENT
DTSTART;TZID=UTC:20260729T190000
DTEND;TZID=UTC:20260729T190000
DTSTAMP:20260424T152001
CREATED:20260220T141223Z
LAST-MODIFIED:20260220T141223Z
UID:7861-1785351600-1785351600@lhyc.org
SUMMARY:Clash of the Champions
DESCRIPTION:
URL:https://lhyc.org/event/clash-of-the-champions-2/
END:VEVENT
BEGIN:VEVENT
DTSTART;TZID=UTC:20260731T190000
DTEND;TZID=UTC:20260731T190000
DTSTAMP:20260424T152001
CREATED:20260206T135046Z
LAST-MODIFIED:20260206T135824Z
UID:7827-1785524400-1785524400@lhyc.org
SUMMARY:LHYC Friday Night Pursuit Race #9
DESCRIPTION:
URL:https://lhyc.org/event/lhyc-friday-night-pursuit-race-9/
END:VEVENT
END:VCALENDAR