BEGIN:VCALENDAR
VERSION:2.0
PRODID:-//Lloyd Harbor Yacht Club - ECPv6.2.6//NONSGML v1.0//EN
CALSCALE:GREGORIAN
METHOD:PUBLISH
X-ORIGINAL-URL:https://lhyc.org
X-WR-CALDESC:Events for Lloyd Harbor Yacht Club
REFRESH-INTERVAL;VALUE=DURATION:PT1H
X-Robots-Tag:noindex
X-PUBLISHED-TTL:PT1H
BEGIN:VTIMEZONE
TZID:UTC
BEGIN:STANDARD
TZOFFSETFROM:+0000
TZOFFSETTO:+0000
TZNAME:UTC
DTSTART:20260101T000000
END:STANDARD
END:VTIMEZONE
BEGIN:VEVENT
DTSTART;TZID=UTC:20260603T190000
DTEND;TZID=UTC:20260603T190000
DTSTAMP:20260422T120708
CREATED:20260205T130942Z
LAST-MODIFIED:20260205T130942Z
UID:7784-1780513200-1780513200@lhyc.org
SUMMARY:LHYC Summer Series Race #3
DESCRIPTION:
URL:https://lhyc.org/event/lhyc-summer-series-race-3/
END:VEVENT
BEGIN:VEVENT
DTSTART;TZID=UTC:20260605T190000
DTEND;TZID=UTC:20260605T190000
DTSTAMP:20260422T120708
CREATED:20260206T134000Z
LAST-MODIFIED:20260206T134000Z
UID:7812-1780686000-1780686000@lhyc.org
SUMMARY:LHYC Friday Night Pursuit Series Race #3
DESCRIPTION:
URL:https://lhyc.org/event/lhyc-friday-night-pursuit-series-race-3/
END:VEVENT
BEGIN:VEVENT
DTSTART;TZID=UTC:20260610T190000
DTEND;TZID=UTC:20260610T190000
DTSTAMP:20260422T120708
CREATED:20260205T131021Z
LAST-MODIFIED:20260205T131021Z
UID:7786-1781118000-1781118000@lhyc.org
SUMMARY:LHYC Summer Series Race #4
DESCRIPTION:
URL:https://lhyc.org/event/lhyc-summer-series-race-4/
END:VEVENT
BEGIN:VEVENT
DTSTART;TZID=UTC:20260612T190000
DTEND;TZID=UTC:20260612T190000
DTSTAMP:20260422T120708
CREATED:20260206T134046Z
LAST-MODIFIED:20260206T134046Z
UID:7814-1781290800-1781290800@lhyc.org
SUMMARY:LHYC Friday Night Pursuit Series Race #4
DESCRIPTION:
URL:https://lhyc.org/event/lhyc-friday-night-pursuit-series-race-4/
END:VEVENT
BEGIN:VEVENT
DTSTART;TZID=UTC:20260613T110000
DTEND;TZID=UTC:20260613T110000
DTSTAMP:20260422T120708
CREATED:20260220T140134Z
LAST-MODIFIED:20260220T140134Z
UID:7849-1781348400-1781348400@lhyc.org
SUMMARY:Huntington Bay Championship
DESCRIPTION:
URL:https://lhyc.org/event/huntington-bay-championship/
END:VEVENT
BEGIN:VEVENT
DTSTART;TZID=UTC:20260617T190000
DTEND;TZID=UTC:20260617T190000
DTSTAMP:20260422T120708
CREATED:20260205T131203Z
LAST-MODIFIED:20260205T131203Z
UID:7788-1781722800-1781722800@lhyc.org
SUMMARY:LHYC Summer Series Race #5
DESCRIPTION:
URL:https://lhyc.org/event/lhyc-summer-series-race-5/
END:VEVENT
BEGIN:VEVENT
DTSTART;TZID=UTC:20260619T190000
DTEND;TZID=UTC:20260619T190000
DTSTAMP:20260422T120708
CREATED:20260206T134220Z
LAST-MODIFIED:20260206T134454Z
UID:7816-1781895600-1781895600@lhyc.org
SUMMARY:LHYC Friday Night Pursuit Race #5
DESCRIPTION:
URL:https://lhyc.org/event/lhyc-friday-night-pursuit-race-5/
END:VEVENT
BEGIN:VEVENT
DTSTART;TZID=UTC:20260626T190000
DTEND;TZID=UTC:20260626T190000
DTSTAMP:20260422T120708
CREATED:20260206T134255Z
LAST-MODIFIED:20260206T135603Z
UID:7818-1782500400-1782500400@lhyc.org
SUMMARY:LHYC Commodore's Cup
DESCRIPTION:
URL:https://lhyc.org/event/lhyc-friday-night-pursuit-race-6/
END:VEVENT
END:VCALENDAR