BEGIN:VCALENDAR
VERSION:2.0
PRODID:-//Lloyd Harbor Yacht Club - ECPv6.2.6//NONSGML v1.0//EN
CALSCALE:GREGORIAN
METHOD:PUBLISH
X-ORIGINAL-URL:https://lhyc.org
X-WR-CALDESC:Events for Lloyd Harbor Yacht Club
REFRESH-INTERVAL;VALUE=DURATION:PT1H
X-Robots-Tag:noindex
X-PUBLISHED-TTL:PT1H
BEGIN:VTIMEZONE
TZID:UTC
BEGIN:STANDARD
TZOFFSETFROM:+0000
TZOFFSETTO:+0000
TZNAME:UTC
DTSTART:20260101T000000
END:STANDARD
END:VTIMEZONE
BEGIN:VEVENT
DTSTART;TZID=UTC:20260214T100000
DTEND;TZID=UTC:20260214T120000
DTSTAMP:20260422T120713
CREATED:20260205T125331Z
LAST-MODIFIED:20260205T125331Z
UID:7759-1771063200-1771070400@lhyc.org
SUMMARY:LHYC Expired Flare Demonstration and Collection Day
DESCRIPTION:
URL:https://lhyc.org/event/lhyc-expired-flare-demonstration-and-collection-day/
LOCATION:Centerport Yacht Club\, 33 Beach Plum Drive\, CENTERPORT\, NY\, 11721\, United States
END:VEVENT
END:VCALENDAR