BEGIN:VCALENDAR
VERSION:2.0
PRODID:-//Lloyd Harbor Yacht Club - ECPv6.2.6//NONSGML v1.0//EN
CALSCALE:GREGORIAN
METHOD:PUBLISH
X-WR-CALNAME:Lloyd Harbor Yacht Club
X-ORIGINAL-URL:https://lhyc.org
X-WR-CALDESC:Events for Lloyd Harbor Yacht Club
REFRESH-INTERVAL;VALUE=DURATION:PT1H
X-Robots-Tag:noindex
X-PUBLISHED-TTL:PT1H
BEGIN:VTIMEZONE
TZID:UTC
BEGIN:STANDARD
TZOFFSETFROM:+0000
TZOFFSETTO:+0000
TZNAME:UTC
DTSTART:20260101T000000
END:STANDARD
END:VTIMEZONE
BEGIN:VEVENT
DTSTART;TZID=UTC:20260926T160000
DTEND;TZID=UTC:20260926T160000
DTSTAMP:20260422T105701
CREATED:20260220T142354Z
LAST-MODIFIED:20260220T142354Z
UID:7876-1790438400-1790438400@lhyc.org
SUMMARY:LHYC Decommissioning Raft Up
DESCRIPTION:
URL:https://lhyc.org/event/lhyc-decommissioning-raft-up/
END:VEVENT
BEGIN:VEVENT
DTSTART;TZID=UTC:20261107T180000
DTEND;TZID=UTC:20261107T180000
DTSTAMP:20260422T105701
CREATED:20260220T142452Z
LAST-MODIFIED:20260220T142452Z
UID:7878-1794074400-1794074400@lhyc.org
SUMMARY:LHYC Annual Awards Dinner
DESCRIPTION:
URL:https://lhyc.org/event/lhyc-annual-awards-dinner/
END:VEVENT
END:VCALENDAR