BEGIN:VCALENDAR
VERSION:2.0
PRODID:-//Lloyd Harbor Yacht Club - ECPv6.2.6//NONSGML v1.0//EN
CALSCALE:GREGORIAN
METHOD:PUBLISH
X-WR-CALNAME:Lloyd Harbor Yacht Club
X-ORIGINAL-URL:https://lhyc.org
X-WR-CALDESC:Events for Lloyd Harbor Yacht Club
REFRESH-INTERVAL;VALUE=DURATION:PT1H
X-Robots-Tag:noindex
X-PUBLISHED-TTL:PT1H
BEGIN:VTIMEZONE

END:VTIMEZONE
BEGIN:VEVENT
DTSTART;VALUE=DATE:20230705
DTEND;VALUE=DATE:20230706
DTSTAMP:20260421T092945
CREATED:20230115T232318Z
LAST-MODIFIED:20230115T232318Z
UID:6902-1688515200-1688601599@lhyc.org
SUMMARY:Summer Series Race # 8
DESCRIPTION:
URL:https://lhyc.org/event/summer-series-race-8-2/
CATEGORIES:Wednesday Races
END:VEVENT
BEGIN:VEVENT
DTSTART;VALUE=DATE:20230630
DTEND;VALUE=DATE:20230701
DTSTAMP:20260421T092945
CREATED:20230115T232318Z
LAST-MODIFIED:20230115T232318Z
UID:6901-1688083200-1688169599@lhyc.org
SUMMARY:Friday Night PHRF Pursuit Series #6
DESCRIPTION:
URL:https://lhyc.org/event/friday-night-phrf-pursuit-series-6-2/
CATEGORIES:Pursuit Races
END:VEVENT
BEGIN:VEVENT
DTSTART;VALUE=DATE:20230628
DTEND;VALUE=DATE:20230629
DTSTAMP:20260421T092945
CREATED:20230115T232318Z
LAST-MODIFIED:20230115T232318Z
UID:6900-1687910400-1687996799@lhyc.org
SUMMARY:Summer Series Race # 7
DESCRIPTION:
URL:https://lhyc.org/event/summer-series-race-7-2/
CATEGORIES:Wednesday Races
END:VEVENT
BEGIN:VEVENT
DTSTART;VALUE=DATE:20230623
DTEND;VALUE=DATE:20230624
DTSTAMP:20260421T092945
CREATED:20230115T232317Z
LAST-MODIFIED:20230115T232317Z
UID:6899-1687478400-1687564799@lhyc.org
SUMMARY:Friday Night PHRF Pursuit Series #5
DESCRIPTION:
URL:https://lhyc.org/event/friday-night-phrf-pursuit-series-5-2/
CATEGORIES:Pursuit Races
END:VEVENT
BEGIN:VEVENT
DTSTART;VALUE=DATE:20230621
DTEND;VALUE=DATE:20230622
DTSTAMP:20260421T092945
CREATED:20230115T232317Z
LAST-MODIFIED:20230115T232317Z
UID:6898-1687305600-1687391999@lhyc.org
SUMMARY:Summer Series Race # 6
DESCRIPTION:
URL:https://lhyc.org/event/summer-series-race-6-2/
CATEGORIES:Wednesday Races
END:VEVENT
BEGIN:VEVENT
DTSTART;VALUE=DATE:20230616
DTEND;VALUE=DATE:20230617
DTSTAMP:20260421T092945
CREATED:20230115T232117Z
LAST-MODIFIED:20230115T232117Z
UID:6896-1686873600-1686959999@lhyc.org
SUMMARY:Friday Night PHRF Pursuit Series #4
DESCRIPTION:
URL:https://lhyc.org/event/friday-night-phrf-pursuit-series-4-2/
CATEGORIES:Pursuit Races
END:VEVENT
BEGIN:VEVENT
DTSTART;VALUE=DATE:20230614
DTEND;VALUE=DATE:20230615
DTSTAMP:20260421T092945
CREATED:20230115T232117Z
LAST-MODIFIED:20230115T232117Z
UID:6895-1686700800-1686787199@lhyc.org
SUMMARY:Summer Series Race # 5
DESCRIPTION:
URL:https://lhyc.org/event/summer-series-race-5-2/
CATEGORIES:Wednesday Races
END:VEVENT
BEGIN:VEVENT
DTSTART;VALUE=DATE:20230609
DTEND;VALUE=DATE:20230610
DTSTAMP:20260421T092945
CREATED:20230115T232117Z
LAST-MODIFIED:20230115T232117Z
UID:6894-1686268800-1686355199@lhyc.org
SUMMARY:Friday Night PHRF Pursuit Series #3
DESCRIPTION:
URL:https://lhyc.org/event/friday-night-phrf-pursuit-series-3-2/
CATEGORIES:Pursuit Races
END:VEVENT
BEGIN:VEVENT
DTSTART;VALUE=DATE:20230607
DTEND;VALUE=DATE:20230608
DTSTAMP:20260421T092945
CREATED:20230115T232116Z
LAST-MODIFIED:20230115T232116Z
UID:6893-1686096000-1686182399@lhyc.org
SUMMARY:Summer Series Race # 4
DESCRIPTION:
URL:https://lhyc.org/event/summer-series-race-4-2/
CATEGORIES:Wednesday Races
END:VEVENT
BEGIN:VEVENT
DTSTART;VALUE=DATE:20230603
DTEND;VALUE=DATE:20230604
DTSTAMP:20260421T092945
CREATED:20230115T232116Z
LAST-MODIFIED:20230115T233633Z
UID:6892-1685750400-1685836799@lhyc.org
SUMMARY:Huntington Bay Championship-Lloyd's Trophy & Huntington Day Race
DESCRIPTION:
URL:https://lhyc.org/event/huntington-bay-championship-lloyds-trophy-huntington-day-race-2/
CATEGORIES:Open Weekend Events
END:VEVENT
BEGIN:VEVENT
DTSTART;VALUE=DATE:20230602
DTEND;VALUE=DATE:20230603
DTSTAMP:20260421T092945
CREATED:20230115T232102Z
LAST-MODIFIED:20230115T232102Z
UID:6891-1685664000-1685750399@lhyc.org
SUMMARY:Friday Night PHRF Pursuit Series #2
DESCRIPTION:
URL:https://lhyc.org/event/friday-night-phrf-pursuit-series-2-2/
CATEGORIES:Pursuit Races
END:VEVENT
BEGIN:VEVENT
DTSTART;VALUE=DATE:20230531
DTEND;VALUE=DATE:20230601
DTSTAMP:20260421T092945
CREATED:20230115T232101Z
LAST-MODIFIED:20230115T232101Z
UID:6890-1685491200-1685577599@lhyc.org
SUMMARY:Summer Series Race # 3
DESCRIPTION:
URL:https://lhyc.org/event/summer-series-race-3-2/
CATEGORIES:Wednesday Races
END:VEVENT
BEGIN:VEVENT
DTSTART;VALUE=DATE:20230526
DTEND;VALUE=DATE:20230527
DTSTAMP:20260421T092945
CREATED:20230115T232101Z
LAST-MODIFIED:20230115T232101Z
UID:6889-1685059200-1685145599@lhyc.org
SUMMARY:Friday Night PHRF Pursuit Series #1
DESCRIPTION:
URL:https://lhyc.org/event/friday-night-phrf-pursuit-series-1-2/
CATEGORIES:Open Weekend Events
END:VEVENT
BEGIN:VEVENT
DTSTART;VALUE=DATE:20230524
DTEND;VALUE=DATE:20230525
DTSTAMP:20260421T092945
CREATED:20230115T232100Z
LAST-MODIFIED:20230115T232100Z
UID:6888-1684886400-1684972799@lhyc.org
SUMMARY:Summer Series Race # 2
DESCRIPTION:
URL:https://lhyc.org/event/summer-series-race-2-2/
CATEGORIES:Wednesday Races
END:VEVENT
BEGIN:VEVENT
DTSTART;VALUE=DATE:20230519
DTEND;VALUE=DATE:20230521
DTSTAMP:20260421T092945
CREATED:20230115T231752Z
LAST-MODIFIED:20230115T233352Z
UID:6794-1684454400-1684627199@lhyc.org
SUMMARY:Spring Series - Race for the Case
DESCRIPTION:
URL:https://lhyc.org/event/spring-series-race-for-the-case/
END:VEVENT
BEGIN:VEVENT
DTSTART;VALUE=DATE:20230517
DTEND;VALUE=DATE:20230518
DTSTAMP:20260421T092945
CREATED:20230115T232059Z
LAST-MODIFIED:20230115T232059Z
UID:6886-1684281600-1684367999@lhyc.org
SUMMARY:Summer Series Race # 1
DESCRIPTION:
URL:https://lhyc.org/event/summer-series-race-1-2/
CATEGORIES:Wednesday Races
END:VEVENT
BEGIN:VEVENT
DTSTART;VALUE=DATE:20230429
DTEND;VALUE=DATE:20230430
DTSTAMP:20260421T092945
CREATED:20230115T232059Z
LAST-MODIFIED:20230309T004652Z
UID:6884-1682726400-1682812799@lhyc.org
SUMMARY:New Members Reception
DESCRIPTION:Rain Date April 30th
URL:https://lhyc.org/event/new-members-reception-2/
CATEGORIES:Members Only
END:VEVENT
BEGIN:VEVENT
DTSTART;VALUE=DATE:20230308
DTEND;VALUE=DATE:20230309
DTSTAMP:20260421T092945
CREATED:20230115T232058Z
LAST-MODIFIED:20230302T190544Z
UID:6883-1678233600-1678319999@lhyc.org
SUMMARY:Spring Speaker
DESCRIPTION:Dave Perry\n“Tactics in Crowds”\nCenterport Yacht Club
URL:https://lhyc.org/event/spring-speaker-2/
CATEGORIES:Wednesday Races
END:VEVENT
BEGIN:VEVENT
DTSTART;VALUE=DATE:20230111
DTEND;VALUE=DATE:20230112
DTSTAMP:20260421T092945
CREATED:20230115T232058Z
LAST-MODIFIED:20230116T180540Z
UID:6882-1673395200-1673481599@lhyc.org
SUMMARY:LHYC Annual Members Meeting
DESCRIPTION:
URL:https://lhyc.org/event/lhyc-annual-members-meeting-2/
CATEGORIES:Members Only
END:VEVENT
BEGIN:VEVENT
DTSTART;VALUE=DATE:20260421
DTEND;VALUE=DATE:19700102
DTSTAMP:20260421T092945
CREATED:20230115T233030Z
LAST-MODIFIED:20230115T233030Z
UID:6929-0-86399@lhyc.org
SUMMARY:LHYC Holiday Party
DESCRIPTION:
URL:https://lhyc.org/event/lhyc-holiday-party-2/
CATEGORIES:Members Only
END:VEVENT
BEGIN:VEVENT
DTSTART;VALUE=DATE:20260421
DTEND;VALUE=DATE:19700102
DTSTAMP:20260421T092945
CREATED:20230115T232100Z
LAST-MODIFIED:20230115T232100Z
UID:6887-0-86399@lhyc.org
SUMMARY:Spring Series ? Race for the Case
DESCRIPTION:
URL:https://lhyc.org/event/spring-series-race-for-the-case-2/
CATEGORIES:Open Weekend Events
END:VEVENT
BEGIN:VEVENT
DTSTART;VALUE=DATE:20260421
DTEND;VALUE=DATE:19700102
DTSTAMP:20260421T092945
CREATED:20230115T232059Z
LAST-MODIFIED:20230115T232059Z
UID:6885-0-86399@lhyc.org
SUMMARY:Commissioning
DESCRIPTION:
URL:https://lhyc.org/event/commissioning-2/
CATEGORIES:Members Only
END:VEVENT
END:VCALENDAR