BEGIN:VCALENDAR
VERSION:2.0
PRODID:-//Lloyd Harbor Yacht Club - ECPv6.2.6//NONSGML v1.0//EN
CALSCALE:GREGORIAN
METHOD:PUBLISH
X-WR-CALNAME:Lloyd Harbor Yacht Club
X-ORIGINAL-URL:https://lhyc.org
X-WR-CALDESC:Events for Lloyd Harbor Yacht Club
REFRESH-INTERVAL;VALUE=DURATION:PT1H
X-Robots-Tag:noindex
X-PUBLISHED-TTL:PT1H
BEGIN:VTIMEZONE
TZID:UTC
BEGIN:STANDARD
TZOFFSETFROM:+0000
TZOFFSETTO:+0000
TZNAME:UTC
DTSTART:20240101T000000
END:STANDARD
END:VTIMEZONE
BEGIN:VEVENT
DTSTART;VALUE=DATE:20240928
DTEND;VALUE=DATE:20240929
DTSTAMP:20260421T093112
CREATED:20240227T182155Z
LAST-MODIFIED:20240920T151119Z
UID:7250-1727481600-1727567999@lhyc.org
SUMMARY:Decommissioning & Raft-up
DESCRIPTION:
URL:https://lhyc.org/event/decommissioning-raft-up/
CATEGORIES:Members Only Event
END:VEVENT
BEGIN:VEVENT
DTSTART;VALUE=DATE:20241109
DTEND;VALUE=DATE:20241110
DTSTAMP:20260421T093112
CREATED:20240227T182228Z
LAST-MODIFIED:20240227T182316Z
UID:7252-1731110400-1731196799@lhyc.org
SUMMARY:Awards Dinner
DESCRIPTION:
URL:https://lhyc.org/event/awards-dinner/
CATEGORIES:Members Only Event
END:VEVENT
BEGIN:VEVENT
DTSTART;TZID=UTC:20250426T160000
DTEND;TZID=UTC:20250426T160000
DTSTAMP:20260421T093112
CREATED:20250207T192452Z
LAST-MODIFIED:20250207T192452Z
UID:7585-1745683200-1745683200@lhyc.org
SUMMARY:LHYC New Members Reception
DESCRIPTION:
URL:https://lhyc.org/event/lhyc-new-members-reception/
END:VEVENT
BEGIN:VEVENT
DTSTART;TZID=UTC:20250514T190000
DTEND;TZID=UTC:20250514T190000
DTSTAMP:20260421T093112
CREATED:20250115T190503Z
LAST-MODIFIED:20250115T223019Z
UID:7491-1747249200-1747249200@lhyc.org
SUMMARY:Summer Series Race #1
DESCRIPTION:
URL:https://lhyc.org/event/summer-series-race-1-4/
END:VEVENT
BEGIN:VEVENT
DTSTART;TZID=UTC:20250517T000000
DTEND;TZID=UTC:20250518T000000
DTSTAMP:20260421T093112
CREATED:20250115T185424Z
LAST-MODIFIED:20250115T185424Z
UID:7489-1747440000-1747526400@lhyc.org
SUMMARY:Spring Series Race for the Case
DESCRIPTION:
URL:https://lhyc.org/event/spring-series-race-for-the-case-4/
END:VEVENT
BEGIN:VEVENT
DTSTART;TZID=UTC:20250521T190000
DTEND;TZID=UTC:20250521T190000
DTSTAMP:20260421T093112
CREATED:20250115T190543Z
LAST-MODIFIED:20250115T223049Z
UID:7493-1747854000-1747854000@lhyc.org
SUMMARY:Summer Series Race #2
DESCRIPTION:
URL:https://lhyc.org/event/summer-series-race-2-4/
END:VEVENT
BEGIN:VEVENT
DTSTART;TZID=UTC:20250523T190000
DTEND;TZID=UTC:20250523T190000
DTSTAMP:20260421T093112
CREATED:20250115T190730Z
LAST-MODIFIED:20250115T223531Z
UID:7497-1748026800-1748026800@lhyc.org
SUMMARY:Friday Night Pursuit Race #1
DESCRIPTION:
URL:https://lhyc.org/event/friday-night-pursuit-race-1/
END:VEVENT
BEGIN:VEVENT
DTSTART;TZID=UTC:20250528T190000
DTEND;TZID=UTC:20250528T190000
DTSTAMP:20260421T093112
CREATED:20250115T190618Z
LAST-MODIFIED:20250115T223116Z
UID:7495-1748458800-1748458800@lhyc.org
SUMMARY:Summer Series Race #3
DESCRIPTION:
URL:https://lhyc.org/event/summer-series-race-3-4/
END:VEVENT
BEGIN:VEVENT
DTSTART;TZID=UTC:20250530T190000
DTEND;TZID=UTC:20250530T190000
DTSTAMP:20260421T093112
CREATED:20250115T222409Z
LAST-MODIFIED:20250115T223440Z
UID:7499-1748631600-1748631600@lhyc.org
SUMMARY:Friday Night Pursuit Race #2
DESCRIPTION:
URL:https://lhyc.org/event/friday-night-pursuit-race-2/
END:VEVENT
BEGIN:VEVENT
DTSTART;TZID=UTC:20250604T190000
DTEND;TZID=UTC:20250604T190000
DTSTAMP:20260421T093112
CREATED:20250115T222551Z
LAST-MODIFIED:20250115T223139Z
UID:7501-1749063600-1749063600@lhyc.org
SUMMARY:Summer Series Race #4
DESCRIPTION:
URL:https://lhyc.org/event/summer-series-race-4-4/
END:VEVENT
BEGIN:VEVENT
DTSTART;TZID=UTC:20250606T190000
DTEND;TZID=UTC:20250606T190000
DTSTAMP:20260421T093112
CREATED:20250115T224043Z
LAST-MODIFIED:20250115T224211Z
UID:7511-1749236400-1749236400@lhyc.org
SUMMARY:Friday Night Pursuit Race #3
DESCRIPTION:
URL:https://lhyc.org/event/friday-night-pursuit-race-6/
END:VEVENT
BEGIN:VEVENT
DTSTART;TZID=UTC:20250607T110000
DTEND;TZID=UTC:20250607T110000
DTSTAMP:20260421T093112
CREATED:20250115T224445Z
LAST-MODIFIED:20250115T224445Z
UID:7514-1749294000-1749294000@lhyc.org
SUMMARY:Huntington Bay Championship-Lloyd’s Trophy & Huntington Day Race
DESCRIPTION:
URL:https://lhyc.org/event/huntington-bay-championship-lloyds-trophy-huntington-day-race-4/
END:VEVENT
BEGIN:VEVENT
DTSTART;TZID=UTC:20250611T190000
DTEND;TZID=UTC:20250611T190000
DTSTAMP:20260421T093112
CREATED:20250115T222624Z
LAST-MODIFIED:20250115T223201Z
UID:7503-1749668400-1749668400@lhyc.org
SUMMARY:Summer Series #5
DESCRIPTION:
URL:https://lhyc.org/event/summer-series-5/
END:VEVENT
BEGIN:VEVENT
DTSTART;TZID=UTC:20250613T190000
DTEND;TZID=UTC:20250613T190000
DTSTAMP:20260421T093112
CREATED:20250115T224709Z
LAST-MODIFIED:20250115T224709Z
UID:7516-1749841200-1749841200@lhyc.org
SUMMARY:Friday Night Pursuit Race #4
DESCRIPTION:
URL:https://lhyc.org/event/friday-night-pursuit-race-4/
END:VEVENT
BEGIN:VEVENT
DTSTART;TZID=UTC:20250618T190000
DTEND;TZID=UTC:20250618T190000
DTSTAMP:20260421T093112
CREATED:20250115T222848Z
LAST-MODIFIED:20250115T223807Z
UID:7509-1750273200-1750273200@lhyc.org
SUMMARY:Summer Series #6
DESCRIPTION:
URL:https://lhyc.org/event/summer-series-6-2/
END:VEVENT
BEGIN:VEVENT
DTSTART;TZID=UTC:20250620T190000
DTEND;TZID=UTC:20250620T190000
DTSTAMP:20260421T093112
CREATED:20250115T224805Z
LAST-MODIFIED:20250115T224805Z
UID:7518-1750446000-1750446000@lhyc.org
SUMMARY:Friday Night Pursuit Race #5
DESCRIPTION:
URL:https://lhyc.org/event/friday-night-pursuit-race-5/
END:VEVENT
BEGIN:VEVENT
DTSTART;TZID=UTC:20250625T190000
DTEND;TZID=UTC:20250625T190000
DTSTAMP:20260421T093112
CREATED:20250115T222754Z
LAST-MODIFIED:20250115T223853Z
UID:7507-1750878000-1750878000@lhyc.org
SUMMARY:Summer Series #7
DESCRIPTION:
URL:https://lhyc.org/event/summer-series-7/
END:VEVENT
BEGIN:VEVENT
DTSTART;TZID=UTC:20250627T190000
DTEND;TZID=UTC:20250627T190000
DTSTAMP:20260421T093112
CREATED:20250115T224921Z
LAST-MODIFIED:20250115T225011Z
UID:7520-1751050800-1751050800@lhyc.org
SUMMARY:Commodore's Cup
DESCRIPTION:
URL:https://lhyc.org/event/commodores-cup-4/
END:VEVENT
BEGIN:VEVENT
DTSTART;TZID=UTC:20250702T190000
DTEND;TZID=UTC:20250702T190000
DTSTAMP:20260421T093112
CREATED:20250115T225224Z
LAST-MODIFIED:20250115T225224Z
UID:7522-1751482800-1751482800@lhyc.org
SUMMARY:Summer Series Race #8
DESCRIPTION:
URL:https://lhyc.org/event/summer-series-race-8-4/
END:VEVENT
BEGIN:VEVENT
DTSTART;TZID=UTC:20250709T190000
DTEND;TZID=UTC:20250709T190000
DTSTAMP:20260421T093112
CREATED:20250115T225256Z
LAST-MODIFIED:20250115T225256Z
UID:7524-1752087600-1752087600@lhyc.org
SUMMARY:Summer Series Race #9
DESCRIPTION:
URL:https://lhyc.org/event/summer-series-race-9-4/
END:VEVENT
BEGIN:VEVENT
DTSTART;TZID=UTC:20250711T190000
DTEND;TZID=UTC:20250711T190000
DTSTAMP:20260421T093112
CREATED:20250115T225612Z
LAST-MODIFIED:20250115T225612Z
UID:7530-1752260400-1752260400@lhyc.org
SUMMARY:Friday Night Pursuit Race #6
DESCRIPTION:
URL:https://lhyc.org/event/friday-night-pursuit-race-6-2/
END:VEVENT
BEGIN:VEVENT
DTSTART;TZID=UTC:20250712T140000
DTEND;TZID=UTC:20250712T140000
DTSTAMP:20260421T093113
CREATED:20250115T225848Z
LAST-MODIFIED:20250115T230004Z
UID:7536-1752328800-1752328800@lhyc.org
SUMMARY:Edward S. Dole Memorial Stratford Shoal Race
DESCRIPTION:
URL:https://lhyc.org/event/edward-s-dole-memorial-stratford-shoal-race/
END:VEVENT
BEGIN:VEVENT
DTSTART;TZID=UTC:20250716T190000
DTEND;TZID=UTC:20250716T190000
DTSTAMP:20260421T093113
CREATED:20250115T225337Z
LAST-MODIFIED:20250115T225337Z
UID:7526-1752692400-1752692400@lhyc.org
SUMMARY:Summer Series Race #10
DESCRIPTION:
URL:https://lhyc.org/event/summer-series-race-10-4/
END:VEVENT
BEGIN:VEVENT
DTSTART;TZID=UTC:20250718T190000
DTEND;TZID=UTC:20250718T190000
DTSTAMP:20260421T093113
CREATED:20250115T225647Z
LAST-MODIFIED:20250115T225647Z
UID:7532-1752865200-1752865200@lhyc.org
SUMMARY:Friday Night Pursuit Race #7
DESCRIPTION:
URL:https://lhyc.org/event/friday-night-pursuit-race-7/
END:VEVENT
BEGIN:VEVENT
DTSTART;TZID=UTC:20250719T140000
DTEND;TZID=UTC:20250719T140000
DTSTAMP:20260421T093113
CREATED:20250116T134251Z
LAST-MODIFIED:20250205T162553Z
UID:7567-1752933600-1752933600@lhyc.org
SUMMARY:Little Brown Jug Race
DESCRIPTION:
URL:https://lhyc.org/event/little-brown-jug-race-3/
END:VEVENT
BEGIN:VEVENT
DTSTART;TZID=UTC:20250723T190000
DTEND;TZID=UTC:20250723T190000
DTSTAMP:20260421T093113
CREATED:20250115T225445Z
LAST-MODIFIED:20250115T225445Z
UID:7528-1753297200-1753297200@lhyc.org
SUMMARY:Clash of the Champions
DESCRIPTION:
URL:https://lhyc.org/event/clash-of-the-champions/
END:VEVENT
BEGIN:VEVENT
DTSTART;TZID=UTC:20250725T190000
DTEND;TZID=UTC:20250725T190000
DTSTAMP:20260421T093113
CREATED:20250115T225735Z
LAST-MODIFIED:20250116T132850Z
UID:7534-1753470000-1753470000@lhyc.org
SUMMARY:Friday Night Pursuit Race #8
DESCRIPTION:
URL:https://lhyc.org/event/friday-night-pursuit-race-8/
END:VEVENT
BEGIN:VEVENT
DTSTART;TZID=UTC:20250730T190000
DTEND;TZID=UTC:20250730T190000
DTSTAMP:20260421T093113
CREATED:20250115T230224Z
LAST-MODIFIED:20250115T230224Z
UID:7540-1753902000-1753902000@lhyc.org
SUMMARY:Sunset Series Race #1
DESCRIPTION:
URL:https://lhyc.org/event/sunset-series-race-1-4/
END:VEVENT
BEGIN:VEVENT
DTSTART;TZID=UTC:20250801T190000
DTEND;TZID=UTC:20250801T190000
DTSTAMP:20260421T093113
CREATED:20250116T132615Z
LAST-MODIFIED:20250116T132615Z
UID:7542-1754074800-1754074800@lhyc.org
SUMMARY:Friday Night Pursuit Race #9
DESCRIPTION:
URL:https://lhyc.org/event/friday-night-pursuit-race-9/
END:VEVENT
BEGIN:VEVENT
DTSTART;TZID=UTC:20250806T190000
DTEND;TZID=UTC:20250806T190000
DTSTAMP:20260421T093113
CREATED:20250116T133158Z
LAST-MODIFIED:20250116T133158Z
UID:7550-1754506800-1754506800@lhyc.org
SUMMARY:Sunset Series Race #2
DESCRIPTION:
URL:https://lhyc.org/event/sunset-series-race-2-4/
END:VEVENT
END:VCALENDAR