BEGIN:VCALENDAR
VERSION:2.0
PRODID:-//Lloyd Harbor Yacht Club - ECPv6.2.6//NONSGML v1.0//EN
CALSCALE:GREGORIAN
METHOD:PUBLISH
X-WR-CALNAME:Lloyd Harbor Yacht Club
X-ORIGINAL-URL:https://lhyc.org
X-WR-CALDESC:Events for Lloyd Harbor Yacht Club
REFRESH-INTERVAL;VALUE=DURATION:PT1H
X-Robots-Tag:noindex
X-PUBLISHED-TTL:PT1H
BEGIN:VTIMEZONE
TZID:UTC
BEGIN:STANDARD
TZOFFSETFROM:+0000
TZOFFSETTO:+0000
TZNAME:UTC
DTSTART:20230101T000000
END:STANDARD
END:VTIMEZONE
BEGIN:VEVENT
DTSTART;VALUE=DATE:20240904
DTEND;VALUE=DATE:20240905
DTSTAMP:20260421T111853
CREATED:20240227T180425Z
LAST-MODIFIED:20240227T180540Z
UID:7230-1725408000-1725494399@lhyc.org
SUMMARY:Sunset Series Race 6
DESCRIPTION:
URL:https://lhyc.org/event/sunset-series-race-6-3/
CATEGORIES:Wednesday Races
END:VEVENT
BEGIN:VEVENT
DTSTART;VALUE=DATE:20240828
DTEND;VALUE=DATE:20240829
DTSTAMP:20260421T111853
CREATED:20240227T180400Z
LAST-MODIFIED:20240227T180400Z
UID:7228-1724803200-1724889599@lhyc.org
SUMMARY:Sunset Series Race 5
DESCRIPTION:
URL:https://lhyc.org/event/sunset-series-race-5-3/
CATEGORIES:Wednesday Races
END:VEVENT
BEGIN:VEVENT
DTSTART;VALUE=DATE:20240821
DTEND;VALUE=DATE:20240822
DTSTAMP:20260421T111853
CREATED:20240227T180312Z
LAST-MODIFIED:20240227T180757Z
UID:7226-1724198400-1724284799@lhyc.org
SUMMARY:Sunset Series Race 4
DESCRIPTION:
URL:https://lhyc.org/event/sunset-series-race-4-3/
CATEGORIES:Wednesday Races
END:VEVENT
BEGIN:VEVENT
DTSTART;VALUE=DATE:20240814
DTEND;VALUE=DATE:20240815
DTSTAMP:20260421T111853
CREATED:20240227T180246Z
LAST-MODIFIED:20240227T180744Z
UID:7224-1723593600-1723679999@lhyc.org
SUMMARY:Sunset Series Race 3
DESCRIPTION:
URL:https://lhyc.org/event/sunset-series-race-3-3/
CATEGORIES:Wednesday Races
END:VEVENT
BEGIN:VEVENT
DTSTART;VALUE=DATE:20240807
DTEND;VALUE=DATE:20240808
DTSTAMP:20260421T111853
CREATED:20240227T180216Z
LAST-MODIFIED:20240227T180652Z
UID:7222-1722988800-1723075199@lhyc.org
SUMMARY:Sunset Series Race 2
DESCRIPTION:
URL:https://lhyc.org/event/sunset-series-race-2-3/
CATEGORIES:Wednesday Races
END:VEVENT
BEGIN:VEVENT
DTSTART;VALUE=DATE:20240731
DTEND;VALUE=DATE:20240801
DTSTAMP:20260421T111853
CREATED:20240227T180133Z
LAST-MODIFIED:20240227T180731Z
UID:7220-1722384000-1722470399@lhyc.org
SUMMARY:Sunset Series Race 1
DESCRIPTION:
URL:https://lhyc.org/event/sunset-series-race-1-3/
CATEGORIES:Wednesday Races
END:VEVENT
BEGIN:VEVENT
DTSTART;VALUE=DATE:20240724
DTEND;VALUE=DATE:20240725
DTSTAMP:20260421T111853
CREATED:20240227T175855Z
LAST-MODIFIED:20240227T175930Z
UID:7218-1721779200-1721865599@lhyc.org
SUMMARY:Clash of the Champions Race
DESCRIPTION:
URL:https://lhyc.org/event/clash-of-the-champions-race/
CATEGORIES:Wednesday Races
END:VEVENT
BEGIN:VEVENT
DTSTART;VALUE=DATE:20240717
DTEND;VALUE=DATE:20240718
DTSTAMP:20260421T111853
CREATED:20240227T175811Z
LAST-MODIFIED:20240227T175811Z
UID:7216-1721174400-1721260799@lhyc.org
SUMMARY:Summer Series Race 10
DESCRIPTION:
URL:https://lhyc.org/event/summer-series-race-10-3/
CATEGORIES:Wednesday Races
END:VEVENT
BEGIN:VEVENT
DTSTART;VALUE=DATE:20240710
DTEND;VALUE=DATE:20240711
DTSTAMP:20260421T111853
CREATED:20240227T175722Z
LAST-MODIFIED:20240227T175722Z
UID:7214-1720569600-1720655999@lhyc.org
SUMMARY:Summer Series Race 9
DESCRIPTION:
URL:https://lhyc.org/event/summer-series-race-9-3/
CATEGORIES:Wednesday Races
END:VEVENT
BEGIN:VEVENT
DTSTART;VALUE=DATE:20240703
DTEND;VALUE=DATE:20240704
DTSTAMP:20260421T111853
CREATED:20240227T175651Z
LAST-MODIFIED:20240227T175651Z
UID:7212-1719964800-1720051199@lhyc.org
SUMMARY:Summer Series Race 8
DESCRIPTION:
URL:https://lhyc.org/event/summer-series-race-8-3/
CATEGORIES:Wednesday Races
END:VEVENT
BEGIN:VEVENT
DTSTART;VALUE=DATE:20240626
DTEND;VALUE=DATE:20240627
DTSTAMP:20260421T111853
CREATED:20240227T175607Z
LAST-MODIFIED:20240227T175607Z
UID:7210-1719360000-1719446399@lhyc.org
SUMMARY:Summer Series Race 7
DESCRIPTION:
URL:https://lhyc.org/event/summer-series-race-7-3/
CATEGORIES:Wednesday Races
END:VEVENT
BEGIN:VEVENT
DTSTART;VALUE=DATE:20240619
DTEND;VALUE=DATE:20240620
DTSTAMP:20260421T111853
CREATED:20240227T175322Z
LAST-MODIFIED:20240227T175347Z
UID:7208-1718755200-1718841599@lhyc.org
SUMMARY:Summer Series Race 6
DESCRIPTION:
URL:https://lhyc.org/event/summer-series-race-6-3/
CATEGORIES:Wednesday Races
END:VEVENT
BEGIN:VEVENT
DTSTART;VALUE=DATE:20240612
DTEND;VALUE=DATE:20240613
DTSTAMP:20260421T111853
CREATED:20240227T175246Z
LAST-MODIFIED:20240227T175523Z
UID:7206-1718150400-1718236799@lhyc.org
SUMMARY:Summer Series Race 5
DESCRIPTION:
URL:https://lhyc.org/event/summer-series-race-5-3/
CATEGORIES:Wednesday Races
END:VEVENT
BEGIN:VEVENT
DTSTART;VALUE=DATE:20240605
DTEND;VALUE=DATE:20240606
DTSTAMP:20260421T111853
CREATED:20240227T175212Z
LAST-MODIFIED:20240227T175503Z
UID:7204-1717545600-1717631999@lhyc.org
SUMMARY:Summer Series Race 4
DESCRIPTION:
URL:https://lhyc.org/event/summer-series-race-4-3/
CATEGORIES:Wednesday Races
END:VEVENT
BEGIN:VEVENT
DTSTART;VALUE=DATE:20240529
DTEND;VALUE=DATE:20240530
DTSTAMP:20260421T111853
CREATED:20240227T175137Z
LAST-MODIFIED:20240227T175449Z
UID:7202-1716940800-1717027199@lhyc.org
SUMMARY:Summer Series Race 3
DESCRIPTION:
URL:https://lhyc.org/event/summer-series-race-3-3/
CATEGORIES:Wednesday Races
END:VEVENT
BEGIN:VEVENT
DTSTART;VALUE=DATE:20240522
DTEND;VALUE=DATE:20240523
DTSTAMP:20260421T111853
CREATED:20240227T175056Z
LAST-MODIFIED:20240227T175427Z
UID:7200-1716336000-1716422399@lhyc.org
SUMMARY:Summer Series Race 2
DESCRIPTION:
URL:https://lhyc.org/event/summer-series-race-2-3/
CATEGORIES:Wednesday Races
END:VEVENT
BEGIN:VEVENT
DTSTART;VALUE=DATE:20240515
DTEND;VALUE=DATE:20240516
DTSTAMP:20260421T111853
CREATED:20240227T174737Z
LAST-MODIFIED:20240227T174917Z
UID:7197-1715731200-1715817599@lhyc.org
SUMMARY:Summer Series Race 1
DESCRIPTION:
URL:https://lhyc.org/event/summer-series-race-1-3/
CATEGORIES:Wednesday Races
END:VEVENT
BEGIN:VEVENT
DTSTART;VALUE=DATE:20230906
DTEND;VALUE=DATE:20230907
DTSTAMP:20260421T111853
CREATED:20230115T233019Z
LAST-MODIFIED:20230115T233019Z
UID:6924-1693958400-1694044799@lhyc.org
SUMMARY:Sunset Series Race #6
DESCRIPTION:
URL:https://lhyc.org/event/sunset-series-race-6-2/
CATEGORIES:Wednesday Races
END:VEVENT
BEGIN:VEVENT
DTSTART;VALUE=DATE:20230830
DTEND;VALUE=DATE:20230831
DTSTAMP:20260421T111853
CREATED:20230115T233015Z
LAST-MODIFIED:20230115T233015Z
UID:6922-1693353600-1693439999@lhyc.org
SUMMARY:Sunset Series Race #5
DESCRIPTION:
URL:https://lhyc.org/event/sunset-series-race-5-2/
CATEGORIES:Wednesday Races
END:VEVENT
BEGIN:VEVENT
DTSTART;VALUE=DATE:20230823
DTEND;VALUE=DATE:20230824
DTSTAMP:20260421T111853
CREATED:20230115T233014Z
LAST-MODIFIED:20230115T233014Z
UID:6920-1692748800-1692835199@lhyc.org
SUMMARY:Sunset Series Race # 4
DESCRIPTION:
URL:https://lhyc.org/event/sunset-series-race-4-2/
CATEGORIES:Wednesday Races
END:VEVENT
BEGIN:VEVENT
DTSTART;VALUE=DATE:20230816
DTEND;VALUE=DATE:20230817
DTSTAMP:20260421T111853
CREATED:20230115T232921Z
LAST-MODIFIED:20230115T232921Z
UID:6917-1692144000-1692230399@lhyc.org
SUMMARY:Sunset Series Race # 3
DESCRIPTION:
URL:https://lhyc.org/event/sunset-series-race-3-2/
CATEGORIES:Wednesday Races
END:VEVENT
BEGIN:VEVENT
DTSTART;VALUE=DATE:20230809
DTEND;VALUE=DATE:20230810
DTSTAMP:20260421T111853
CREATED:20230115T232920Z
LAST-MODIFIED:20230115T232920Z
UID:6914-1691539200-1691625599@lhyc.org
SUMMARY:Sunset Series Race # 2
DESCRIPTION:
URL:https://lhyc.org/event/sunset-series-race-2-2/
CATEGORIES:Wednesday Races
END:VEVENT
BEGIN:VEVENT
DTSTART;VALUE=DATE:20230802
DTEND;VALUE=DATE:20230803
DTSTAMP:20260421T111853
CREATED:20230115T232720Z
LAST-MODIFIED:20230115T232720Z
UID:6912-1690934400-1691020799@lhyc.org
SUMMARY:Sunset Series Race # 1
DESCRIPTION:
URL:https://lhyc.org/event/sunset-series-race-1-2/
CATEGORIES:Wednesday Races
END:VEVENT
BEGIN:VEVENT
DTSTART;VALUE=DATE:20230726
DTEND;VALUE=DATE:20230727
DTSTAMP:20260421T111853
CREATED:20230115T232719Z
LAST-MODIFIED:20230115T232719Z
UID:6909-1690329600-1690415999@lhyc.org
SUMMARY:Clash of Champions
DESCRIPTION:
URL:https://lhyc.org/event/clash-of-champions-2/
CATEGORIES:Wednesday Races
END:VEVENT
BEGIN:VEVENT
DTSTART;VALUE=DATE:20230719
DTEND;VALUE=DATE:20230720
DTSTAMP:20260421T111853
CREATED:20230115T232519Z
LAST-MODIFIED:20230115T232519Z
UID:6907-1689724800-1689811199@lhyc.org
SUMMARY:Summer Series Race #10
DESCRIPTION:
URL:https://lhyc.org/event/summer-series-race-10-2/
CATEGORIES:Wednesday Races
END:VEVENT
BEGIN:VEVENT
DTSTART;VALUE=DATE:20230712
DTEND;VALUE=DATE:20230713
DTSTAMP:20260421T111853
CREATED:20230115T232519Z
LAST-MODIFIED:20230115T232519Z
UID:6904-1689120000-1689206399@lhyc.org
SUMMARY:Summer Series Race #9
DESCRIPTION:
URL:https://lhyc.org/event/summer-series-race-9-2/
CATEGORIES:Wednesday Races
END:VEVENT
BEGIN:VEVENT
DTSTART;VALUE=DATE:20230705
DTEND;VALUE=DATE:20230706
DTSTAMP:20260421T111853
CREATED:20230115T232318Z
LAST-MODIFIED:20230115T232318Z
UID:6902-1688515200-1688601599@lhyc.org
SUMMARY:Summer Series Race # 8
DESCRIPTION:
URL:https://lhyc.org/event/summer-series-race-8-2/
CATEGORIES:Wednesday Races
END:VEVENT
BEGIN:VEVENT
DTSTART;VALUE=DATE:20230628
DTEND;VALUE=DATE:20230629
DTSTAMP:20260421T111853
CREATED:20230115T232318Z
LAST-MODIFIED:20230115T232318Z
UID:6900-1687910400-1687996799@lhyc.org
SUMMARY:Summer Series Race # 7
DESCRIPTION:
URL:https://lhyc.org/event/summer-series-race-7-2/
CATEGORIES:Wednesday Races
END:VEVENT
BEGIN:VEVENT
DTSTART;VALUE=DATE:20230621
DTEND;VALUE=DATE:20230622
DTSTAMP:20260421T111853
CREATED:20230115T232317Z
LAST-MODIFIED:20230115T232317Z
UID:6898-1687305600-1687391999@lhyc.org
SUMMARY:Summer Series Race # 6
DESCRIPTION:
URL:https://lhyc.org/event/summer-series-race-6-2/
CATEGORIES:Wednesday Races
END:VEVENT
BEGIN:VEVENT
DTSTART;VALUE=DATE:20230614
DTEND;VALUE=DATE:20230615
DTSTAMP:20260421T111853
CREATED:20230115T232117Z
LAST-MODIFIED:20230115T232117Z
UID:6895-1686700800-1686787199@lhyc.org
SUMMARY:Summer Series Race # 5
DESCRIPTION:
URL:https://lhyc.org/event/summer-series-race-5-2/
CATEGORIES:Wednesday Races
END:VEVENT
END:VCALENDAR