BEGIN:VCALENDAR
VERSION:2.0
PRODID:-//Lloyd Harbor Yacht Club - ECPv6.2.6//NONSGML v1.0//EN
CALSCALE:GREGORIAN
METHOD:PUBLISH
X-ORIGINAL-URL:https://lhyc.org
X-WR-CALDESC:Events for Lloyd Harbor Yacht Club
REFRESH-INTERVAL;VALUE=DURATION:PT1H
X-Robots-Tag:noindex
X-PUBLISHED-TTL:PT1H
BEGIN:VTIMEZONE
TZID:UTC
BEGIN:STANDARD
TZOFFSETFROM:+0000
TZOFFSETTO:+0000
TZNAME:UTC
DTSTART:20230101T000000
END:STANDARD
END:VTIMEZONE
BEGIN:VEVENT
DTSTART;VALUE=DATE:20230825
DTEND;VALUE=DATE:20230826
DTSTAMP:20260423T113200
CREATED:20230115T233014Z
LAST-MODIFIED:20230115T233014Z
UID:6921-1692921600-1693007999@lhyc.org
SUMMARY:Friday Night PHRF Pursuit Series #13
DESCRIPTION:
URL:https://lhyc.org/event/friday-night-phrf-pursuit-series-13-2/
CATEGORIES:Pursuit Races
END:VEVENT
BEGIN:VEVENT
DTSTART;VALUE=DATE:20230818
DTEND;VALUE=DATE:20230819
DTSTAMP:20260423T113200
CREATED:20230115T233014Z
LAST-MODIFIED:20230115T233014Z
UID:6919-1692316800-1692403199@lhyc.org
SUMMARY:Friday Night PHRF Pursuit Series #12
DESCRIPTION:
URL:https://lhyc.org/event/friday-night-phrf-pursuit-series-12-2/
CATEGORIES:Pursuit Races
END:VEVENT
BEGIN:VEVENT
DTSTART;VALUE=DATE:20230811
DTEND;VALUE=DATE:20230812
DTSTAMP:20260423T113200
CREATED:20230115T232921Z
LAST-MODIFIED:20230115T232921Z
UID:6915-1691712000-1691798399@lhyc.org
SUMMARY:Friday Night PHRF Pursuit Series #11
DESCRIPTION:
URL:https://lhyc.org/event/friday-night-phrf-pursuit-series-11-2/
CATEGORIES:Pursuit Races
END:VEVENT
BEGIN:VEVENT
DTSTART;VALUE=DATE:20230804
DTEND;VALUE=DATE:20230805
DTSTAMP:20260423T113200
CREATED:20230115T232920Z
LAST-MODIFIED:20230115T232920Z
UID:6913-1691107200-1691193599@lhyc.org
SUMMARY:Friday Night PHRF Pursuit Series #10
DESCRIPTION:
URL:https://lhyc.org/event/friday-night-phrf-pursuit-series-10-2/
CATEGORIES:Pursuit Races
END:VEVENT
BEGIN:VEVENT
DTSTART;VALUE=DATE:20230728
DTEND;VALUE=DATE:20230729
DTSTAMP:20260423T113200
CREATED:20230115T232720Z
LAST-MODIFIED:20230115T232720Z
UID:6910-1690502400-1690588799@lhyc.org
SUMMARY:Friday Night PHRF Pursuit Series #9
DESCRIPTION:
URL:https://lhyc.org/event/friday-night-phrf-pursuit-series-9-2/
CATEGORIES:Pursuit Races
END:VEVENT
BEGIN:VEVENT
DTSTART;VALUE=DATE:20230721
DTEND;VALUE=DATE:20230722
DTSTAMP:20260423T113200
CREATED:20230115T232719Z
LAST-MODIFIED:20230115T232719Z
UID:6908-1689897600-1689983999@lhyc.org
SUMMARY:Friday Night PHRF Pursuit Series #8
DESCRIPTION:
URL:https://lhyc.org/event/friday-night-phrf-pursuit-series-8-2/
CATEGORIES:Pursuit Races
END:VEVENT
BEGIN:VEVENT
DTSTART;VALUE=DATE:20230714
DTEND;VALUE=DATE:20230715
DTSTAMP:20260423T113200
CREATED:20230115T232519Z
LAST-MODIFIED:20230115T232519Z
UID:6905-1689292800-1689379199@lhyc.org
SUMMARY:Friday Night PHRF Pursuit Series #7
DESCRIPTION:
URL:https://lhyc.org/event/friday-night-phrf-pursuit-series-7-2/
CATEGORIES:Pursuit Races
END:VEVENT
BEGIN:VEVENT
DTSTART;VALUE=DATE:20230630
DTEND;VALUE=DATE:20230701
DTSTAMP:20260423T113200
CREATED:20230115T232318Z
LAST-MODIFIED:20230115T232318Z
UID:6901-1688083200-1688169599@lhyc.org
SUMMARY:Friday Night PHRF Pursuit Series #6
DESCRIPTION:
URL:https://lhyc.org/event/friday-night-phrf-pursuit-series-6-2/
CATEGORIES:Pursuit Races
END:VEVENT
BEGIN:VEVENT
DTSTART;VALUE=DATE:20230623
DTEND;VALUE=DATE:20230624
DTSTAMP:20260423T113200
CREATED:20230115T232317Z
LAST-MODIFIED:20230115T232317Z
UID:6899-1687478400-1687564799@lhyc.org
SUMMARY:Friday Night PHRF Pursuit Series #5
DESCRIPTION:
URL:https://lhyc.org/event/friday-night-phrf-pursuit-series-5-2/
CATEGORIES:Pursuit Races
END:VEVENT
BEGIN:VEVENT
DTSTART;VALUE=DATE:20230616
DTEND;VALUE=DATE:20230617
DTSTAMP:20260423T113200
CREATED:20230115T232117Z
LAST-MODIFIED:20230115T232117Z
UID:6896-1686873600-1686959999@lhyc.org
SUMMARY:Friday Night PHRF Pursuit Series #4
DESCRIPTION:
URL:https://lhyc.org/event/friday-night-phrf-pursuit-series-4-2/
CATEGORIES:Pursuit Races
END:VEVENT
BEGIN:VEVENT
DTSTART;VALUE=DATE:20230609
DTEND;VALUE=DATE:20230610
DTSTAMP:20260423T113200
CREATED:20230115T232117Z
LAST-MODIFIED:20230115T232117Z
UID:6894-1686268800-1686355199@lhyc.org
SUMMARY:Friday Night PHRF Pursuit Series #3
DESCRIPTION:
URL:https://lhyc.org/event/friday-night-phrf-pursuit-series-3-2/
CATEGORIES:Pursuit Races
END:VEVENT
BEGIN:VEVENT
DTSTART;VALUE=DATE:20230602
DTEND;VALUE=DATE:20230603
DTSTAMP:20260423T113200
CREATED:20230115T232102Z
LAST-MODIFIED:20230115T232102Z
UID:6891-1685664000-1685750399@lhyc.org
SUMMARY:Friday Night PHRF Pursuit Series #2
DESCRIPTION:
URL:https://lhyc.org/event/friday-night-phrf-pursuit-series-2-2/
CATEGORIES:Pursuit Races
END:VEVENT
END:VCALENDAR