BEGIN:VCALENDAR
VERSION:2.0
PRODID:-//Lloyd Harbor Yacht Club - ECPv6.2.6//NONSGML v1.0//EN
CALSCALE:GREGORIAN
METHOD:PUBLISH
X-WR-CALNAME:Lloyd Harbor Yacht Club
X-ORIGINAL-URL:https://lhyc.org
X-WR-CALDESC:Events for Lloyd Harbor Yacht Club
REFRESH-INTERVAL;VALUE=DURATION:PT1H
X-Robots-Tag:noindex
X-PUBLISHED-TTL:PT1H
BEGIN:VTIMEZONE

END:VTIMEZONE
BEGIN:VEVENT
DTSTART;VALUE=DATE:20240914
DTEND;VALUE=DATE:20240915
DTSTAMP:20260422T135526
CREATED:20240227T181600Z
LAST-MODIFIED:20240228T150503Z
UID:7240-1726272000-1726358399@lhyc.org
SUMMARY:Target Rock Fall Series
DESCRIPTION:
URL:https://lhyc.org/event/target-rock-fall-series/
CATEGORIES:Open Weekend Events
END:VEVENT
BEGIN:VEVENT
DTSTART;VALUE=DATE:20240907
DTEND;VALUE=DATE:20240908
DTSTAMP:20260422T135526
CREATED:20240227T181640Z
LAST-MODIFIED:20240228T150539Z
UID:7242-1725667200-1725753599@lhyc.org
SUMMARY:Katrina Winkle
DESCRIPTION:
URL:https://lhyc.org/event/katrina-winkle/
CATEGORIES:Open Weekend Events
END:VEVENT
BEGIN:VEVENT
DTSTART;VALUE=DATE:20240518
DTEND;VALUE=DATE:20240520
DTSTAMP:20260422T135526
CREATED:20240227T180922Z
LAST-MODIFIED:20240227T180922Z
UID:7232-1715990400-1716163199@lhyc.org
SUMMARY:Spring Series Race for the Case
DESCRIPTION:
URL:https://lhyc.org/event/spring-series-race-for-the-case-3/
CATEGORIES:Open Weekend Events
END:VEVENT
BEGIN:VEVENT
DTSTART;VALUE=DATE:20230909
DTEND;VALUE=DATE:20230910
DTSTAMP:20260422T135526
CREATED:20230115T233019Z
LAST-MODIFIED:20230115T233019Z
UID:6925-1694217600-1694303999@lhyc.org
SUMMARY:54rd LHYC Katrina Cup & 68th CYC Winkle Cup Races
DESCRIPTION:
URL:https://lhyc.org/event/54rd-lhyc-katrina-cup-68th-cyc-winkle-cup-races-2/
CATEGORIES:Open Weekend Events
END:VEVENT
BEGIN:VEVENT
DTSTART;VALUE=DATE:20230729
DTEND;VALUE=DATE:20230730
DTSTAMP:20260422T135526
CREATED:20230115T232720Z
LAST-MODIFIED:20230115T233757Z
UID:6911-1690588800-1690675199@lhyc.org
SUMMARY:Women Skippers Race
DESCRIPTION:
URL:https://lhyc.org/event/women-skippers-race-2/
CATEGORIES:Open Weekend Events
END:VEVENT
BEGIN:VEVENT
DTSTART;VALUE=DATE:20230708
DTEND;VALUE=DATE:20230709
DTSTAMP:20260422T135526
CREATED:20230115T232519Z
LAST-MODIFIED:20230627T185940Z
UID:6906-1688774400-1688860799@lhyc.org
SUMMARY:50th Annual Ed Dole Memorial Stratford Shoal Race. Benefits Make-A-Wish
DESCRIPTION:
URL:https://lhyc.org/event/50th-annual-ed-dole-memorial-stratford-shoal-race-benefits-make-a-wish-2/
CATEGORIES:Open Weekend Events
END:VEVENT
BEGIN:VEVENT
DTSTART;VALUE=DATE:20230603
DTEND;VALUE=DATE:20230604
DTSTAMP:20260422T135526
CREATED:20230115T232116Z
LAST-MODIFIED:20230115T233633Z
UID:6892-1685750400-1685836799@lhyc.org
SUMMARY:Huntington Bay Championship-Lloyd's Trophy & Huntington Day Race
DESCRIPTION:
URL:https://lhyc.org/event/huntington-bay-championship-lloyds-trophy-huntington-day-race-2/
CATEGORIES:Open Weekend Events
END:VEVENT
BEGIN:VEVENT
DTSTART;VALUE=DATE:20230526
DTEND;VALUE=DATE:20230527
DTSTAMP:20260422T135526
CREATED:20230115T232101Z
LAST-MODIFIED:20230115T232101Z
UID:6889-1685059200-1685145599@lhyc.org
SUMMARY:Friday Night PHRF Pursuit Series #1
DESCRIPTION:
URL:https://lhyc.org/event/friday-night-phrf-pursuit-series-1-2/
CATEGORIES:Open Weekend Events
END:VEVENT
BEGIN:VEVENT
DTSTART;VALUE=DATE:20260422
DTEND;VALUE=DATE:19700102
DTSTAMP:20260422T135526
CREATED:20230115T232100Z
LAST-MODIFIED:20230115T232100Z
UID:6887-0-86399@lhyc.org
SUMMARY:Spring Series ? Race for the Case
DESCRIPTION:
URL:https://lhyc.org/event/spring-series-race-for-the-case-2/
CATEGORIES:Open Weekend Events
END:VEVENT
END:VCALENDAR