BEGIN:VCALENDAR
VERSION:2.0
PRODID:-//Lloyd Harbor Yacht Club - ECPv6.2.6//NONSGML v1.0//EN
CALSCALE:GREGORIAN
METHOD:PUBLISH
X-ORIGINAL-URL:https://lhyc.org
X-WR-CALDESC:Events for Lloyd Harbor Yacht Club
REFRESH-INTERVAL;VALUE=DURATION:PT1H
X-Robots-Tag:noindex
X-PUBLISHED-TTL:PT1H
BEGIN:VTIMEZONE
TZID:UTC
BEGIN:STANDARD
TZOFFSETFROM:+0000
TZOFFSETTO:+0000
TZNAME:UTC
DTSTART:20240101T000000
END:STANDARD
END:VTIMEZONE
BEGIN:VEVENT
DTSTART;VALUE=DATE:20241109
DTEND;VALUE=DATE:20241110
DTSTAMP:20260422T123345
CREATED:20240227T182228Z
LAST-MODIFIED:20240227T182316Z
UID:7252-1731110400-1731196799@lhyc.org
SUMMARY:Awards Dinner
DESCRIPTION:
URL:https://lhyc.org/event/awards-dinner/
CATEGORIES:Members Only Event
END:VEVENT
BEGIN:VEVENT
DTSTART;VALUE=DATE:20240928
DTEND;VALUE=DATE:20240929
DTSTAMP:20260422T123345
CREATED:20240227T182155Z
LAST-MODIFIED:20240920T151119Z
UID:7250-1727481600-1727567999@lhyc.org
SUMMARY:Decommissioning & Raft-up
DESCRIPTION:
URL:https://lhyc.org/event/decommissioning-raft-up/
CATEGORIES:Members Only Event
END:VEVENT
BEGIN:VEVENT
DTSTART;VALUE=DATE:20240720
DTEND;VALUE=DATE:20240721
DTSTAMP:20260422T123345
CREATED:20240227T182017Z
LAST-MODIFIED:20240227T182046Z
UID:7248-1721433600-1721519999@lhyc.org
SUMMARY:Little Brown Jug
DESCRIPTION:
URL:https://lhyc.org/event/little-brown-jug/
CATEGORIES:Members Only Event
END:VEVENT
BEGIN:VEVENT
DTSTART;VALUE=DATE:20240628
DTEND;VALUE=DATE:20240629
DTSTAMP:20260422T123345
CREATED:20240227T181847Z
LAST-MODIFIED:20240227T181847Z
UID:7246-1719532800-1719619199@lhyc.org
SUMMARY:Commodore's Cup
DESCRIPTION:
URL:https://lhyc.org/event/commodores-cup-3/
CATEGORIES:Members Only Event
END:VEVENT
BEGIN:VEVENT
DTSTART;VALUE=DATE:20240505
DTEND;VALUE=DATE:20240506
DTSTAMP:20260422T123345
CREATED:20240228T150710Z
LAST-MODIFIED:20240405T153453Z
UID:7288-1714867200-1714953599@lhyc.org
SUMMARY:New Member Reception
DESCRIPTION:
URL:https://lhyc.org/event/new-member-reception/
CATEGORIES:Members Only Event
END:VEVENT
END:VCALENDAR