BEGIN:VCALENDAR
VERSION:2.0
PRODID:-//Lloyd Harbor Yacht Club - ECPv6.2.6//NONSGML v1.0//EN
CALSCALE:GREGORIAN
METHOD:PUBLISH
X-ORIGINAL-URL:https://lhyc.org
X-WR-CALDESC:Events for Lloyd Harbor Yacht Club
REFRESH-INTERVAL;VALUE=DURATION:PT1H
X-Robots-Tag:noindex
X-PUBLISHED-TTL:PT1H
BEGIN:VTIMEZONE
TZID:UTC
BEGIN:STANDARD
TZOFFSETFROM:+0000
TZOFFSETTO:+0000
TZNAME:UTC
DTSTART:20260101T000000
END:STANDARD
END:VTIMEZONE
BEGIN:VEVENT
DTSTART;TZID=UTC:20260531T110000
DTEND;TZID=UTC:20260531T110000
DTSTAMP:20260422T131802
CREATED:20260206T133531Z
LAST-MODIFIED:20260206T133700Z
UID:7804-1780225200-1780225200@lhyc.org
SUMMARY:LHYC Spring Series: Race for the Case Day #2
DESCRIPTION:
URL:https://lhyc.org/event/lhyc-spring-series-race-for-the-case-2/
END:VEVENT
END:VCALENDAR